BEGIN:VCALENDAR
VERSION:2.0
PRODID:-//Islam siglo 21 - ECPv6.9.0//NONSGML v1.0//EN
CALSCALE:GREGORIAN
METHOD:PUBLISH
X-WR-CALNAME:Islam siglo 21
X-ORIGINAL-URL:https://www.islamsiglo21.com
X-WR-CALDESC:Eventos para Islam siglo 21
REFRESH-INTERVAL;VALUE=DURATION:PT1H
X-Robots-Tag:noindex
X-PUBLISHED-TTL:PT1H
BEGIN:VTIMEZONE
TZID:America/Argentina/Buenos_Aires
BEGIN:STANDARD
TZOFFSETFROM:-0300
TZOFFSETTO:-0300
TZNAME:-03
DTSTART:20220101T000000
END:STANDARD
END:VTIMEZONE
BEGIN:VEVENT
DTSTART;VALUE=DATE:20220709
DTEND;VALUE=DATE:20220710
DTSTAMP:20260423T140646
CREATED:20180312T152141Z
LAST-MODIFIED:20210829T151235Z
UID:1260-1657324800-1657411199@www.islamsiglo21.com
SUMMARY:Id Al-Ádha
DESCRIPTION:25 de Muharram
URL:https://www.islamsiglo21.com/evento/id-al-adha/
CATEGORIES:Festividad
END:VEVENT
END:VCALENDAR