BEGIN:VCALENDAR
VERSION:2.0
PRODID:-//Islam siglo 21 - ECPv6.9.0//NONSGML v1.0//EN
CALSCALE:GREGORIAN
METHOD:PUBLISH
X-ORIGINAL-URL:https://www.islamsiglo21.com
X-WR-CALDESC:Eventos para Islam siglo 21
REFRESH-INTERVAL;VALUE=DURATION:PT1H
X-Robots-Tag:noindex
X-PUBLISHED-TTL:PT1H
BEGIN:VTIMEZONE
TZID:America/Argentina/Buenos_Aires
BEGIN:STANDARD
TZOFFSETFROM:-0300
TZOFFSETTO:-0300
TZNAME:-03
DTSTART:20220101T000000
END:STANDARD
END:VTIMEZONE
BEGIN:VEVENT
DTSTART;VALUE=DATE:20220714
DTEND;VALUE=DATE:20220715
DTSTAMP:20260423T154121
CREATED:20180312T152425Z
LAST-MODIFIED:20210829T151355Z
UID:1264-1657756800-1657843199@www.islamsiglo21.com
SUMMARY:Nacimiento del Imam Alí Al-Hádi (P)
DESCRIPTION:25 de Muharram
URL:https://www.islamsiglo21.com/evento/nacimiento-del-imam-ali-al-hadi-p/
CATEGORIES:Nacimiento
END:VEVENT
BEGIN:VEVENT
DTSTART;VALUE=DATE:20220715
DTEND;VALUE=DATE:20220716
DTSTAMP:20260423T154121
CREATED:20180312T152300Z
LAST-MODIFIED:20210829T151330Z
UID:1262-1657843200-1657929599@www.islamsiglo21.com
SUMMARY:Fallecimiento de Záinab
DESCRIPTION:25 de Muharram
URL:https://www.islamsiglo21.com/evento/fallecimiento-de-zainab/
CATEGORIES:Fallecimiento
END:VEVENT
BEGIN:VEVENT
DTSTART;VALUE=DATE:20220717
DTEND;VALUE=DATE:20220718
DTSTAMP:20260423T154121
CREATED:20180312T152545Z
LAST-MODIFIED:20210829T151421Z
UID:1266-1658016000-1658102399@www.islamsiglo21.com
SUMMARY:Id Al-Gadír
DESCRIPTION:25 de Muharram
URL:https://www.islamsiglo21.com/evento/id-al-gadir/
CATEGORIES:Festividad
END:VEVENT
BEGIN:VEVENT
DTSTART;VALUE=DATE:20220723
DTEND;VALUE=DATE:20220724
DTSTAMP:20260423T154121
CREATED:20180312T152722Z
LAST-MODIFIED:20210829T151455Z
UID:1268-1658534400-1658620799@www.islamsiglo21.com
SUMMARY:Id Al-Mubáhala
DESCRIPTION:25 de Muharram
URL:https://www.islamsiglo21.com/evento/id-al-mubahala/
CATEGORIES:Festividad
END:VEVENT
END:VCALENDAR