BEGIN:VCALENDAR
VERSION:2.0
PRODID:-//Islam siglo 21 - ECPv6.9.0//NONSGML v1.0//EN
CALSCALE:GREGORIAN
METHOD:PUBLISH
X-WR-CALNAME:Islam siglo 21
X-ORIGINAL-URL:https://www.islamsiglo21.com
X-WR-CALDESC:Eventos para Islam siglo 21
REFRESH-INTERVAL;VALUE=DURATION:PT1H
X-Robots-Tag:noindex
X-PUBLISHED-TTL:PT1H
BEGIN:VTIMEZONE
TZID:America/Argentina/Buenos_Aires
BEGIN:STANDARD
TZOFFSETFROM:-0300
TZOFFSETTO:-0300
TZNAME:-03
DTSTART:20220101T000000
END:STANDARD
END:VTIMEZONE
BEGIN:VEVENT
DTSTART;VALUE=DATE:20220502
DTEND;VALUE=DATE:20220503
DTSTAMP:20260423T154914
CREATED:20180312T151500Z
LAST-MODIFIED:20210829T150925Z
UID:1250-1651449600-1651535999@www.islamsiglo21.com
SUMMARY:Id al-Fitr
DESCRIPTION:25 de Muharram
URL:https://www.islamsiglo21.com/evento/id-al-fitr/
CATEGORIES:Festividad
END:VEVENT
BEGIN:VEVENT
DTSTART;VALUE=DATE:20220516
DTEND;VALUE=DATE:20220517
DTSTAMP:20260423T154914
CREATED:20180312T151601Z
LAST-MODIFIED:20210829T150851Z
UID:1252-1652659200-1652745599@www.islamsiglo21.com
SUMMARY:Martirio Imam Yá`far As-Sádiq
DESCRIPTION:25 de Muharram
URL:https://www.islamsiglo21.com/evento/martirio-imam-yafar-as-sadiq/
CATEGORIES:Martirio
END:VEVENT
BEGIN:VEVENT
DTSTART;VALUE=DATE:20220518
DTEND;VALUE=DATE:20220519
DTSTAMP:20260423T154914
CREATED:20180312T150549Z
LAST-MODIFIED:20210829T145928Z
UID:1241-1652832000-1652918399@www.islamsiglo21.com
SUMMARY:Nacimiento Imam Muhámmad Al-Mahdi (P)
DESCRIPTION:25 de Muharram
URL:https://www.islamsiglo21.com/evento/nacimiento-imam-muhammad-al-mahdi-p/
CATEGORIES:Nacimiento
END:VEVENT
END:VCALENDAR