BEGIN:VCALENDAR
VERSION:2.0
PRODID:-//Islam siglo 21 - ECPv6.9.0//NONSGML v1.0//EN
CALSCALE:GREGORIAN
METHOD:PUBLISH
X-ORIGINAL-URL:https://www.islamsiglo21.com
X-WR-CALDESC:Eventos para Islam siglo 21
REFRESH-INTERVAL;VALUE=DURATION:PT1H
X-Robots-Tag:noindex
X-PUBLISHED-TTL:PT1H
BEGIN:VTIMEZONE
TZID:America/Argentina/Buenos_Aires
BEGIN:STANDARD
TZOFFSETFROM:-0300
TZOFFSETTO:-0300
TZNAME:-03
DTSTART:20220101T000000
END:STANDARD
END:VTIMEZONE
BEGIN:VEVENT
DTSTART;VALUE=DATE:20220610
DTEND;VALUE=DATE:20220611
DTSTAMP:20260423T141739
CREATED:20180312T151740Z
LAST-MODIFIED:20210829T151001Z
UID:1254-1654819200-1654905599@www.islamsiglo21.com
SUMMARY:Nacimiento Imam Alí Al-Rida (P)
DESCRIPTION:25 de Muharram
URL:https://www.islamsiglo21.com/evento/nacimiento-imam-ali-al-rida-p/
CATEGORIES:Nacimiento
END:VEVENT
BEGIN:VEVENT
DTSTART;VALUE=DATE:20220618
DTEND;VALUE=DATE:20220619
DTSTAMP:20260423T141739
CREATED:20180312T151911Z
LAST-MODIFIED:20210829T151057Z
UID:1256-1655510400-1655596799@www.islamsiglo21.com
SUMMARY:Martirio del Imam Muhámmad Al-Yauád (P)
DESCRIPTION:25 de Muharram
URL:https://www.islamsiglo21.com/evento/martirio-del-imam-muhammad-al-yauuad-p/
CATEGORIES:Martirio
END:VEVENT
END:VCALENDAR